BEGIN:VCALENDAR
VERSION:2.0
PRODID:-//KM EXPERT - ECPv6.11.2//NONSGML v1.0//EN
CALSCALE:GREGORIAN
METHOD:PUBLISH
X-ORIGINAL-URL:https://kmexpert.hu
X-WR-CALDESC:Events for KM EXPERT
REFRESH-INTERVAL;VALUE=DURATION:PT1H
X-Robots-Tag:noindex
X-PUBLISHED-TTL:PT1H
BEGIN:VTIMEZONE
TZID:Europe/Helsinki
BEGIN:DAYLIGHT
TZOFFSETFROM:+0200
TZOFFSETTO:+0300
TZNAME:EEST
DTSTART:20230326T010000
END:DAYLIGHT
BEGIN:STANDARD
TZOFFSETFROM:+0300
TZOFFSETTO:+0200
TZNAME:EET
DTSTART:20231029T010000
END:STANDARD
END:VTIMEZONE
BEGIN:VEVENT
DTSTART;TZID=Europe/Helsinki:20230523T173000
DTEND;TZID=Europe/Helsinki:20230523T190000
DTSTAMP:20260419T165650
CREATED:20230510T091849Z
LAST-MODIFIED:20230522T151204Z
UID:7529-1684863000-1684868400@kmexpert.hu
SUMMARY:Műhely: Idő – Tudás – Eredményesség
DESCRIPTION:[vc_row][vc_column][vc_empty_space][vc_column_text] \nMájus 23-ai (keddi) online műhelyünkön Személyes idő- és tudásgazdálkodás tréningünkhöz hasonlóan az időgazdálkodást és a tudásmenedzsmentet elegyítjük. \nAhogy tréningünk mottójában is áll: “Ha van időd\, regisztrálj és gyere el! Ha nincs\, el KELL jönnöd!” \n  \n  \nA tartalomból: \n\nÍzelítőt adunk a tematikus tréningjeinken várható hangulatból.\nElőadás\, gyakorlati tanácsok.\nCsoportmunka\, közös problémafeltárás és -megoldás.\n\nMire számíthatsz a május 23-ai műhelyen?\n\n17:30 Bemutatkozás\n17:40 Előadás: Az idő\, a tudás és az eredmény összefüggései. Időgazdálkodási praktikák.\nGyulay Tibor ügyvezető\, a Személyes Idő- és Tudásgazdálkodás trénere\n18:05 Megoldásfókuszú workshop: időgazdálkodási problémák azonosítása\, megoldási lehetőségek feltárása.\n18:50 Zárás\n+ Networking\n\nRegisztráció\nRegisztrálj most díjmentesen a tájékoztatóra és vedd fel az esemény dátumát a naptáradba! Hívd el kollégáidat is! (A regisztrációs űrlapot jobbra találod.) \nHelyszín\nMicrosoft Teams\nA regisztráltaknak az esemény napján küldjük el a belépéshez szükséges linket. \nAz esemény házgazdái\n[/vc_column_text][/vc_column][/vc_row][vc_row][vc_column width=”1/2″][vc_column_text] \n\n\nGyulay Tibor\ntréner\, ügyvezető\nKM EXPERT Kft. \n“Amikor részt vettem életem első időgazdálkodás tréningjén\, úgy éreztem\, ezt nekem találták ki. Nagy szerencsémre\, én lehettem az első magyar tréner a témában. Hatalmas élmény\, amikor néha leszólítanak\, és azt mondják; „Még mindig a Nálad tanult elvek szerint gazdálkodom az időmmel!” \n\n[/vc_column_text][/vc_column][vc_column width=”1/2″][vc_column_text] \nSzabó Márton\njunior tanácsadó\nKM EXPERT Kft. \n“Kellemes és egyben hasznos témám az időgazdálkodás\, melyet vezetés és szervezés szakos egyetemistaként kutatok is. Mivel érdeklődési köröm és ötleteim kitöltenek két másik életet is\, különösen fontos számomra\, hogy mivel töltöm ezt az egyet.”[/vc_column_text][/vc_column][/vc_row][vc_row][vc_column][/vc_column][/vc_row]
URL:https://kmexpert.hu/esemeny/muhely-ido-tudas-eredmenyesseg/
LOCATION:Online (MS Teams)
CATEGORIES:Műhely,Workshop
ATTACH;FMTTYPE=image/png:https://kmexpert.hu/wp-content/uploads/2023/05/Idogazdalkodas-muhely_1-1.png
ORGANIZER;CN="KM EXPERT":MAILTO:gyulay.tibor@kmexpert.hu
END:VEVENT
END:VCALENDAR