BEGIN:VCALENDAR
VERSION:2.0
PRODID:-//KM EXPERT - ECPv6.11.2//NONSGML v1.0//EN
CALSCALE:GREGORIAN
METHOD:PUBLISH
X-WR-CALNAME:KM EXPERT
X-ORIGINAL-URL:https://kmexpert.hu
X-WR-CALDESC:Events for KM EXPERT
REFRESH-INTERVAL;VALUE=DURATION:PT1H
X-Robots-Tag:noindex
X-PUBLISHED-TTL:PT1H
BEGIN:VTIMEZONE
TZID:Europe/Paris
BEGIN:DAYLIGHT
TZOFFSETFROM:+0100
TZOFFSETTO:+0200
TZNAME:CEST
DTSTART:20200329T010000
END:DAYLIGHT
BEGIN:STANDARD
TZOFFSETFROM:+0200
TZOFFSETTO:+0100
TZNAME:CET
DTSTART:20201025T010000
END:STANDARD
END:VTIMEZONE
BEGIN:VEVENT
DTSTART;TZID=Europe/Paris:20200331T160000
DTEND;TZID=Europe/Paris:20200331T164000
DTSTAMP:20260421T181913
CREATED:20200325T152611Z
LAST-MODIFIED:20200331T074005Z
UID:4071-1585670400-1585672800@kmexpert.hu
SUMMARY:💻Online workshop: TM nehézségek és lehetőségek a vírus helyzet kapcsán | 1.rész
DESCRIPTION:  \nMiért foglalkozunk a TM kihívásaival éppen most? \n⚡A szervezeti folyamatok hatékonysága\, eredményessége nagymértékben függ a tudásgazdálkodás színvonalától. Nehéz időkben\, mint pl. megnövekedett fluktuáció\, öregedő munkaerő távozása\, ismétlődő hibák\, krízis helyzet … ennek a jelentősége különösen megmutatkozik. \nKözös gondolkodási folyamatunk keretében arra keressük a választ\, hogy a koronavírus terjedése miatt kialakult helyzet milyen tudáskezelési problémákat hozott felszínre\, milyen nehézségekkel kell megbirkózni a szervezetekben? Az is előfordulhat\, hogy ez az állapot olyan lehetőségekre hívja fel a figyelmünket\, amire eddig nem gondoltunk. \n👥Tudásközösségünk tagjait egy olyan alkotó folyamatra invitáljuk\, amiben összegyűjtjük a kezelendő kérdéseket (problémák\, lehetőségek)\, súlyozzuk ezeket\, és közösen igyekszünk megoldást találni rájuk. \nOnline workshop sorozatot indítunk a téma feldolgozására! \nAz első alkalom élőben 2020.03.31-én 16:00-kor kezdődik\, majd hetente\, keddenként ugyanebben az időpontban folytatjuk a közös gondolkodást\, amíg a kritikus  TM megoldásokig eljutunk. A jövőben pedig az összegyűjtött TM nehézségekre adunk választ. Érdekes\, egyszerű és célzott 📌 TM tippekkel érkezünk\, amelyek a szervezet sikerességét nagyban növelik és könnyen bevethető jó gyakorlatokkal vértezik fel a cégvezetőket\, HR és folyamatfejlesztő szakembereket. \nHogyan csináljuk?                                                                                                                      \n💡A legjobb módszer\, ha ebben az időszakban közösen ötletelünk arról\, hogy milyen kihívások elé nézünk a megváltozott munkavégzés során a tudásmenedzsmentet illetően. \nTudtad? A szervezeti tudásra most még nagyobb szükség van mint bármikor! Hogyan tudjuk ezt gyarapítani\, milyen eszközzel tudjuk feltárni az egyéni tudást és közös erőforrássá alakítani? Pl. egy brainstorming sok új lehetőséget nyit meg előttünk. A célszerű ötletelés folyamatával azonban sok szervezési feladat is jár\, amire nem mindig jut idő és figyelem: a keletkezett tudásokat\, az új ötleteket össze kell gyűjteni\, rendszerezni kell őket\, kategorizálni\, értékelni\, és továbbgondolni őket olyan ötletkoncepciókká\, amelyek megoldási projektként indíthatóak el a szervezetben. Minderre van egy innovatív 📌TM tippünk: használj kollaborációs programokat mint pl. a Be-novative! Korábban már kipróbáltuk a szoftvert az egyik TM műhelyünkön\, olvasd el a beszámolónkat. >>Tovább a Be-novative program élménybeszámolóhoz! \n \nHogyan tudsz csatlakozni az online workshophoz?                                                            \nAz online workshop során két platformot fogunk igénybe venni: \n\negyet a kommunikációhoz -> ZOOM\negyet pedig az ötleteléshez -> Be-novative\n\n  \n💻 Online meeting: ZOOM alkalmazásban >> Tovább a ZOOM meetinghez! \nA workshop idején a ZOOM alkalmazást használjuk. Ez a groupware felület segít abban\, hogy \n\negy platformon kommunikáljunk a workshop alatt\,\na moderálás itt lesz nyomon követhető\,\nbeszélgetésre és kérdésekre lesz lehetőség a résztvevők számának függvényében.\n\n  \nA kommunikációs felülethez való csatlakozás menete: \n\n1. lépés: Regisztrálj itt az esemény űrlapján!\n2. lépés: A regisztráltaknak emailen keresztül küldeni fogunk emlékeztetőt a meetingről. A csatlakozási linken 2020. 03.31. 15:55-kor lépj be a ZOOM felületére!\n\n  \n \n  \n🎯 Be-novative kihívás címe: Milyen nehézségek\, lehetőségek jelentek meg a tudásmenedzsmentben a vírus helyzet kapcsán? >>Tovább a kihíváshoz! \nAz ötleteléshez való csatlakozás menete: \n\n1. lépés: A workshopot megelőzően regisztrálj ingyenesen a Be-novative nyilvános felületén: https://cloud.be-novative.com/registration\n2. lépés: Ismerkedj a felülettel\, nézz szét az aktív kihívások között!\n3. lépés: A workshop kezdetén fogjuk aktiválni a TM kihívásunkat\, ehhez ki fogjuk küldeni a regisztráltaknak az elérési linket. A kérdésünkhöz tartozó ‘Ötletelés’ gombra egyszerre csatlakozzunk 2020.03.31-én 16:05-kor!\n4. lépés: A workshop idejében kövesd figyelemmel Gyulay Tibor\,  KM EXPERT ügyvezető\, vezető TM szakértő; és Morvayova Andrea\, Be-novative Costumer Succes Specialist\, moderálását.\n\n \nA járványügyi helyzetre való tekintettel folyamatosan fejlesztjük működésünket. Ez az online workshop számunkra is egy izgalmas és új kihívást jelent\, a közös munka során megértéseket és aktív visszajelzéseteket előre is köszönjük! \n  \nMiért éri meg csatlakozni az online workshopunkhoz?                                                     \n\n\n\n#1 \nOnline felületen érhető el\, vagyis távmunkában is könnyen be tudsz csatlakozni!\n\n\n#2\nKözösen dolgozunk együtt a szervezeti teljesítményt kritikusan meghatározó probléma megoldásán!\n\n\n#3\nNem lesz unalmas! Élményalapú\, interaktív programot használunk az ötletelésre!\n\n\n#4\nA program szerint összegyűjtjük\, rendszerezzük és súlyozzuk az ötleteinket: lesz mit “hazavinni”\, lesz output a tudásmenedzsment megoldásokhoz!\n\n\n\n  \nVárunk Téged is szeretettel\, gondolkodjunk közösen\, szerezzünk inspiráló élményt együtt az online térben is!
URL:https://kmexpert.hu/esemeny/%f0%9f%92%bbonline-workshop-tm-nehezsegek-es-lehetosegek-a-virus-helyzet-kapcsan-1-resz/
LOCATION:ZOOM meeting
ATTACH;FMTTYPE=image/png:https://kmexpert.hu/wp-content/uploads/2020/03/success_stories_lorem-52be96c6247a2eb95d25894189539cdf0bfafb34be41ec2b3cfbb2ad96140ea4.png
ORGANIZER;CN="KM EXPERT":MAILTO:gyulay.tibor@kmexpert.hu
END:VEVENT
END:VCALENDAR